BEGIN:VCALENDAR
VERSION:2.0
PRODID:-//ExpressionEngine Easy iCalendar plugin//NONSGML v1.1.1//EN
BEGIN:VEVENT
UID:event
LOCATION:\, Maison Française\, Buell Hall East Gallery
DTSTAMP:20210221T33800Z
DTSTART;TZID=America/New_York:20170208T181500
DTEND;TZID=America/New_York:
SUMMARY:Celebrating Recent Work by Souleymane Bachir Diagne
DESCRIPTION:The Ink of the Scholars: Reflections on Philosophy in Africa
 \n\nby Souleymane Bachir Diagne
END:VEVENT
END:VCALENDAR