BEGIN:VCALENDAR
VERSION:2.0
PRODID:-//ExpressionEngine Easy iCalendar plugin//NONSGML v1.1.1//EN
BEGIN:VEVENT
UID:event
LOCATION:Barnard Hall\, James Room
DTSTAMP:20210221T33500Z
DTSTART;TZID=America/New_York:20170330T190000
DTEND;TZID=America/New_York:
SUMMARY:Mortality Mansions
DESCRIPTION:REGISTER HERE A collaboration of 2006 U.S. Poet Laureate D
 onald Hall and Grammy® Award-winning composer Herschel Ga
 rfein\, Mortality Mansions reflects on the themes of love\, se
 xuality and bereavement in old age from Hall’s poems and t
 races the adoption of Hall’s work into the curricula of me
 dical schools across the country. The world premiere perform
 ance features tenor Michael Slattery and Dmitri Dover\, a
 cclaimed pianist for the Metropolitan opera Lindemann Youn
 g Artist program\, joined by Pulitzer Prize-winning novelist 
 Richard Ford\, National Book Award-winning poet Jean Valentin
 e and Dr. Rita Charon\, professor of Clinical Medicine and d
 irector of the Program in Narrative Medicine at Columbia Uni
 versity\, who will read Hall’s poems. Hall will participate
  via remote video link from his farmhouse in New Hampshire.
END:VEVENT
END:VCALENDAR