BEGIN:VCALENDAR
VERSION:2.0
PRODID:-//ExpressionEngine Easy iCalendar plugin//NONSGML v1.1.1//EN
BEGIN:VEVENT
UID:event
LOCATION:\, Maison FranÃ§aise
DTSTAMP:20210221T33000Z
DTSTART;TZID=America/New_York:20170330T180000
DTEND;TZID=America/New_York:
SUMMARY:Capitalism and the Family in the Atlantic World
DESCRIPTION:Pierre Force talks about his new book\,Â Wealth and Disaster:
  Atlantic Migrations from a Pyrenean Town in the Eighteenth 
 and Nineteenth CenturiesÂ (Johns Hopkins University Press\, 2
 016)\, which follows two families who emigrate from the same 
 Pyrenean Town to Saint-Domingue\, tracing their descendants i
 n an epic saga that spans three generations.Â  Â Paul Cheney
  discusses his new book\,Â Cul de Sac: Patrimony\, Capitalism\,
  and Slavery in French Saint-Domingue (University of Chicago
  Press\, 2017)\, a micro-history of one plantation in Franceâ€
 ™s richest colony.Â  Emmanuelle Saada and Carl Wennerlind wi
 ll join the discussion as respondents.
END:VEVENT
END:VCALENDAR