BEGIN:VCALENDAR
VERSION:2.0
PRODID:-//ExpressionEngine Easy iCalendar plugin//NONSGML v1.1.1//EN
BEGIN:VEVENT
UID:event
LOCATION:Butler Library\, Rare Book and Manuscript Library\, Room 523
DTSTAMP:20210221T33400Z
DTSTART;TZID=America/New_York:20170404T160000
DTEND;TZID=America/New_York:20170404T190000
SUMMARY:The Irish and the Jews
DESCRIPTION:REGISTER HERE As two diasporic communities whose paths have 
 often crossed\, the Irish and the Jews have complex shared hi
 stories. This exhibition and discussion aims to connect thes
 e interwoven narratives of migration\, displacement\, and cult
 ural contact.Â PÃ³l Ã“ Dochartaigh (National University of I
 reland\, Galway) will present on his exhibition at the RoyalÂ
  IrishÂ Academy titled "Representations of Jews in Ireland" 
 andÂ IrishÂ novelist\, Ruth Gilligan\, will read from her new 
 novelÂ Nine Folds Make a Paper Swan (Atlantic)Â about theÂ I
 rish-JewishÂ community. These talks will be held at the Butl
 er Library and will be accompanied by an exhibition of poste
 rs from the Royal Irish Academy and archival materials from 
 the Rare BookÂ and ManuscriptÂ Library at Columbia Universit
 y.
END:VEVENT
END:VCALENDAR