BEGIN:VCALENDAR
VERSION:2.0
PRODID:-//ExpressionEngine Easy iCalendar plugin//NONSGML v1.1.1//EN
BEGIN:VEVENT
UID:event
LOCATION:\, Computer Music Center\, Prentis Hall
DTSTAMP:20210221T33500Z
DTSTART;TZID=America/New_York:20170407T90000
DTEND;TZID=America/New_York:20170408T000000
SUMMARY:Symposium on Reembodied Sound & Festival of Transducer-based
  Music and Sonic Art
DESCRIPTION:This interdisciplinary symposium is designed to address the 
 increasing use of transducers by young creative artists in m
 usic and sonic art\, a subject which has received scant atten
 tion as a unified practice. While transducers have been used
  by artists since their inception\, the last ten years have s
 een an increasing prevalence of surface speakers or “sound
  exciters” in musical composition and sound installation. 
 These transducers are essentially coneless speakers designed
  to attach to any smooth surface\, thereby turning the object
  to which they are attached to into a speaker itself. In ess
 ence\, sound is taken from its original source and “reembod
 ied” into a new object (or recursively back into the origi
 nal source) such as metal sheet\, gong\, piano\, or other reson
 ant object\, often with the addition of mixed synthesis and o
 ther computer-based processes. 
END:VEVENT
END:VCALENDAR