BEGIN:VCALENDAR
VERSION:2.0
PRODID:-//ExpressionEngine Easy iCalendar plugin//NONSGML v1.1.1//EN
BEGIN:VEVENT
UID:event
LOCATION:International Affairs Building\, International Affairs Buildi
 ng\, Room 1512
DTSTAMP:20210221T33500Z
DTSTART;TZID=America/New_York:20170123T180000
DTEND;TZID=America/New_York:
SUMMARY:Depth Two
DESCRIPTION:Flim Screening of Depth Two. From February until June 2016 o
 ver 700 citizens of Serbia and Kosovo saw the documentary fi
 lm “Depth Two”. The film was aired in Kragujevac\, Čača
 k\, Subotica\, Pančevo\, Belgrade\, Novi Pazar\, Niš\, as well a
 s in Pristina in Kosovo. Every screening was followed by a d
 iscussion with the authors\, in which victims and their famil
 ies\, civil society activists\, students\, journalists\, artists
  and other experts from various fields participated. This sh
 ort video collage highlights some of the discussion moments 
 and messages of citizens of Serbia and Kosovo to their compa
 triots and representatives of institutions. The film\, a co-p
 roduction of HLC and Non Aligned Films\, premiered at the 66t
 h International film festival in Berlin (Berlinale) in Febru
 ary 2016\, and was subsequently shown at festivals in Thessal
 oniki\, Wiesbaden\, Belgrade\, Novi Sad and London.
END:VEVENT
END:VCALENDAR