BEGIN:VCALENDAR
VERSION:2.0
PRODID:-//ExpressionEngine Easy iCalendar plugin//NONSGML v1.1.1//EN
BEGIN:VEVENT
UID:event
LOCATION:The Heyman Center\, Second Floor Common Room
DTSTAMP:20210221T33100Z
DTSTART;TZID=America/New_York:20170502T90000
DTEND;TZID=America/New_York:20170503T000000
SUMMARY:The Engine of Modernity
DESCRIPTION:REGISTER HERE Science has long been associated with modernit
 y\, but the belief that it was its engine\, that the modern wo
 rld owed its existence to modern science\, only rose after th
 e beginning of the twentieth century. Pioneered by followers
  of Edmund Husserl (like Alexandre Koyré)\, and developed in
  various places in and outside Europe and the United States\,
  the engine thesis became a widespread article of faith\, a c
 ommonplace even\, with far-reaching academic and political co
 nsequences.
END:VEVENT
END:VCALENDAR