BEGIN:VCALENDAR
VERSION:2.0
PRODID:-//ExpressionEngine Easy iCalendar plugin//NONSGML v1.1.1//EN
BEGIN:VEVENT
UID:event
LOCATION:\, Faculty House\, Ivy Room
DTSTAMP:20210221T33400Z
DTSTART;TZID=America/New_York:20170403T173000
DTEND;TZID=America/New_York:20170403T193000
SUMMARY:Celebrating Recent Work by David Armitage\, Jeffrey Barash\, a
 nd Teresa M. Bejan
DESCRIPTION:New Books in the Society of Fellows\n\n—a panel discussion o
 n recent work by University Seminars and Society of Fellows
  Alumni David Armitage\, Jeffrey Barash\, and Teresa Bejan\, sp
 onsored by Studies in Political and Social Thought (Universi
 ty Seminar #427)
END:VEVENT
END:VCALENDAR