BEGIN:VCALENDAR
VERSION:2.0
PRODID:-//ExpressionEngine Easy iCalendar plugin//NONSGML v1.1.1//EN
BEGIN:VEVENT
UID:event
LOCATION:\, Jerome Greene Annex
DTSTAMP:20210221T33500Z
DTSTART;TZID=America/New_York:20170425T181500
DTEND;TZID=America/New_York:
SUMMARY:Celebrating Recent Work by Philip Kitcher and Evelyn Fox Kel
 ler
DESCRIPTION:As the icecaps melt and the sea levels rise around the glo
 be―threatening human existence as we know it―climate cha
 nge has become one of the most urgent and controversial issu
 es of our time. For most people\, however\, trying to underst
 and the science\, politics\, and arguments on either side can 
 be dizzying\, leading to frustrating and unproductive debates
 .Now\, in this groundbreaking new work\, two of our most renow
 ned thinkers present the realities of global warming in the 
 most human of terms―everyday conversation―showing us how
  to convince even the most stubborn of skeptics as to why we
  need to act now. Indeed\, through compelling Socratic dialo
 gues\, Philip Kitcher and Evelyn Fox Keller tackle some of 
 the thorniest questions facing mankind today.
END:VEVENT
END:VCALENDAR