BEGIN:VCALENDAR
VERSION:2.0
PRODID:-//ExpressionEngine Easy iCalendar plugin//NONSGML v1.1.1//EN
BEGIN:VEVENT
UID:event
LOCATION:The Heyman Center\, Second Floor Common Room
DTSTAMP:20210221T33600Z
DTSTART;TZID=America/New_York:20170427T181500
DTEND;TZID=America/New_York:
SUMMARY:Celebrating Recent Work by Emily Bloom and Hidetaka Hirota
DESCRIPTION:The Wireless Past\n\nAnglo-Irish Writers and the BBC\, 1931-196
 8\n\nby Emily Bloom\n\nExpelling the Poor\n\nAtlantic Seaboard St
 ates and the Nineteenth-Century Origins of American Immigrat
 ion Policy\n\nby Hidetaka Hirota
END:VEVENT
END:VCALENDAR