BEGIN:VCALENDAR
VERSION:2.0
PRODID:-//ExpressionEngine Easy iCalendar plugin//NONSGML v1.1.1//EN
BEGIN:VEVENT
UID:event
LOCATION:\, The Diana Center\, Event Oval\, Barnard College
DTSTAMP:20210221T33900Z
DTSTART;TZID=America/New_York:20170418T180000
DTEND;TZID=America/New_York:
SUMMARY:An Evening with Vijay Iyer
DESCRIPTION:Grammy-nominated composer-pianist Vijay Iyer was describe
 d by Pitchfork as “one of the most interesting & vital you
 ng pianists in jazz today\,” by the Los Angeles Weekly as 
 a boundless and deeply important young star\,” and by Min
 nesota Public Radio as “an American treasure.” He has be
 en voted DownBeat Magazine’s Artist of the Year three ti
 mes – in 2016\, 2015 and 2012. Iyer was named Downbeat’
 s 2014 Pianist of the Year\, a 2013 MacArthur Fellow\, and a 2
 012 Doris Duke Performing Artist. In 2014 he began a permane
 nt appointment as the Franklin D. and Florence Rosenblatt 
 Professor of the Arts in the Department of Music at Harvard 
 University.
END:VEVENT
END:VCALENDAR