BEGIN:VCALENDAR
VERSION:2.0
PRODID:-//ExpressionEngine Easy iCalendar plugin//NONSGML v1.1.1//EN
BEGIN:VEVENT
UID:event
LOCATION:The Heyman Center\, Board Room & Second Floor Common Room
DTSTAMP:20210221T33900Z
DTSTART;TZID=America/New_York:20170426T181500
DTEND;TZID=America/New_York:
SUMMARY:Life After Life in Prison: Panel Discussion
DESCRIPTION:Sara Bennett's photographic exhibition\, "Life After Life in
  Prison\," depicts the lives of four women in the wake of inc
 arceration. On this last day of the exhibition\, Sara Benne
 tt will join the women who are featured in these photograph
 s in a panel discussion on the personal toll of mass incarce
 ration and the intimate experience of life after prison.
END:VEVENT
END:VCALENDAR