BEGIN:VCALENDAR
VERSION:2.0
PRODID:-//ExpressionEngine Easy iCalendar plugin//NONSGML v1.1.1//EN
BEGIN:VEVENT
UID:event
LOCATION:\, Jerome Greene Annex
DTSTAMP:20210221T32700Z
DTSTART;TZID=America/New_York:20170413T181500
DTEND;TZID=America/New_York:20170413T204500
SUMMARY:Nietzsche 13/13: Hélène Cixous and Contemporary Directions
DESCRIPTION:In this session\, we will focus on the writings of Hélène C
 ixous and the emergence of what is called “écriture femin
 ine.”
END:VEVENT
END:VCALENDAR