BEGIN:VCALENDAR
VERSION:2.0
PRODID:-//ExpressionEngine Easy iCalendar plugin//NONSGML v1.1.1//EN
BEGIN:VEVENT
UID:event
LOCATION:\, Jerome Greene Annex
DTSTAMP:20210221T33400Z
DTSTART;TZID=America/New_York:20170427T181500
DTEND;TZID=America/New_York:20170427T204500
SUMMARY:Nietzsche 13/13: Ali Shariati and the Global Nietzsche
DESCRIPTION:In this final session\, we will explore the writings of the I
 ranian critical thinker and revolutionary\, Ali Shariati\, as 
 well as some more recent critical works from around the worl
 d that explore the writings of Nietzsche and may offer direc
 tions forward for critical thought.
END:VEVENT
END:VCALENDAR