BEGIN:VCALENDAR
VERSION:2.0
PRODID:-//ExpressionEngine Easy iCalendar plugin//NONSGML v1.1.1//EN
BEGIN:VEVENT
UID:event
LOCATION:The Heyman Center\, Second Floor Common Room & Board Room
DTSTAMP:20210221T33500Z
DTSTART;TZID=America/New_York:20170328T181500
DTEND;TZID=America/New_York:
SUMMARY:Life after Life in Prison: Opening Reception
DESCRIPTION:Photographic exhibition featuring Sara Bennett will be di
 splayed throughout Heyman Center. This is the opening of the
  exhibition. Closing and panel discussion will take place on
  April 26\, 2017. 
END:VEVENT
END:VCALENDAR