BEGIN:VCALENDAR
VERSION:2.0
PRODID:-//ExpressionEngine Easy iCalendar plugin//NONSGML v1.1.1//EN
BEGIN:VEVENT
UID:event
LOCATION:\, Teatro\, Italian Academy
DTSTAMP:20210221T33700Z
DTSTART;TZID=America/New_York:20170309T181500
DTEND;TZID=America/New_York:
SUMMARY:Imaginative Geographies of the Black/White Atlantic
DESCRIPTION:Professor Catherine Hall will deliver the annual Edward W. S
 aid Memorial Lecture. From Hall's first reading of Oriental
 ism\, Edward Said’s work has acted as an inspiration and a 
 provocation to understand the other. Her focus has been on 
 English imperial identities in the C18 and C19. She underst
 ands the effort to enter imaginatively the states of mind th
 at have underpinned those identities as part of the project 
 of ‘unlearning’ modes of cultural domination. In this le
 cture\, Hall focuses on Edward Long\, C18 slave-owner\, family
  man\, creole nationalist and historian\, whose encyclopaedic 
 History of Jamaica (1774) explicates pro-slavery politics. 
END:VEVENT
END:VCALENDAR