BEGIN:VCALENDAR
VERSION:2.0
PRODID:-//ExpressionEngine Easy iCalendar plugin//NONSGML v1.1.1//EN
BEGIN:VEVENT
UID:event
LOCATION:\, Jerome Greene Annex
DTSTAMP:20210221T33400Z
DTSTART;TZID=America/New_York:20170410T181500
DTEND;TZID=America/New_York:
SUMMARY:Owen Sheers’s Pink Mist
DESCRIPTION:Pink Mist tells the story of three young Bristol men deploy
 ed to Afghanistan. Returning to the women in their lives wh
 o must now share the physical and psychological aftershocks 
 of their service\, Arthur\, Hads and Taff find their journey h
 ome is their greatest battle.\n\nThis play was inspired by 30 
 interviews with returned servicemen and first staged at Bris
 tol Old Vic in 2015. Described as fearlessly lyrical in its 
 imagery” (The Times) and “the most important play of th
 e year" (What’s On Stage)\, Pink Mist will be published 
 in the US for the first time on April 4 by Nan A. Talese/D
 oubleday.\n\nOwen Sheers will read from his work\, followed by 
 a panel discussion with Peter Meineck and Maurice Decaul. 
END:VEVENT
END:VCALENDAR