BEGIN:VCALENDAR
VERSION:2.0
PRODID:-//ExpressionEngine Easy iCalendar plugin//NONSGML v1.1.1//EN
BEGIN:VEVENT
UID:event
LOCATION:The Heyman Center\, Second Floor Common Room
DTSTAMP:20210221T32700Z
DTSTART;TZID=America/New_York:20170303T90000
DTEND;TZID=America/New_York:20170303T170000
SUMMARY:Filing Empire
DESCRIPTION:REGISTRATION FULL The British Empire’s ability to organize
  a disparate series of territories into a single entity rest
 s upon the circulation of files.  Empire is a communicative
  system and as such relies upon a material base of files\, me
 mos\, dispatches and other documents that organized how that 
 transmission takes place.  These are what the media theoris
 t Bernhard Siegert has referred to as ‘inconspicuous tec
 hnologies of knowledge’\, the material base that has often 
 been the unexamined\, taken-for-granted infrastructure that a
 llows Empire to operate. 
END:VEVENT
END:VCALENDAR