BEGIN:VCALENDAR
VERSION:2.0
PRODID:-//ExpressionEngine Easy iCalendar plugin//NONSGML v1.1.1//EN
BEGIN:VEVENT
UID:event
LOCATION:The Heyman Center\, Second Floor Common Room
DTSTAMP:20210221T33000Z
DTSTART;TZID=America/New_York:20170419T190000
DTEND;TZID=America/New_York:
SUMMARY:Burning Issues in African Philosophy with Lewis Gordon
DESCRIPTION:Burning Issues in African Philosophy builds off of the sophi
 sticated work that has now become part of an international c
 onversation on how African philosophy makes unique intervent
 ions into almost every important question of politics\, ethic
 s\, aesthetics\, ontology and epistemology. Indeed\, the very 
 definition of these fundamental philosophical conceptions is
  both challenged and enriched.
END:VEVENT
END:VCALENDAR