BEGIN:VCALENDAR
VERSION:2.0
PRODID:-//ExpressionEngine Easy iCalendar plugin//NONSGML v1.1.1//EN
BEGIN:VEVENT
UID:event
LOCATION:Jerome Greene Hall (Law School)\, Jerome Greene Hall Room 602
DTSTAMP:20210221T33300Z
DTSTART;TZID=America/New_York:20170215T121000
DTEND;TZID=America/New_York:
SUMMARY:Affect and Democratic Politics: The Shortcomings of Anti-hum
 anism
DESCRIPTION:*Please Note Location Change: Now Jerome Greene 602. Present
 ed by the Columbia Center for Contemporary Critical ThoughtÂ
  
END:VEVENT
END:VCALENDAR