BEGIN:VCALENDAR
VERSION:2.0
PRODID:-//ExpressionEngine Easy iCalendar plugin//NONSGML v1.1.1//EN
BEGIN:VEVENT
UID:event
LOCATION:The Heyman Center\, Second Floor Common Room
DTSTAMP:20210221T33200Z
DTSTART;TZID=America/New_York:20170213T181500
DTEND;TZID=America/New_York:
SUMMARY:Fidel Castro and Iraq in 1990: Muhsin J. Al-Musawi in Conver
 sation with José C Moya
DESCRIPTION:In late November 1990\, Fidel Castro invited three Iraqis fo
 r lunch at his place: along with Muhsin J. Al-Musawi (ri
 ght)\, were the Iraqi Ambassador\, Walid Abboud (left)\, and
  the Minister of Endowment\, Abduallah Fadil (center). No 
 protocols were in effect. Around the table there was food an
 d conversation. It wasn’t a banquet\, but an ordinary meal.
  Castro balanced this with wit\, irony\, allusion\, and shrewd 
 remarks on the nature of politics and culture. Fearing that 
 Saddam Hussein would be driven and misled into a confrontati
 on with the US\, Castro was looking for the best method to co
 mmunicate his thoughts without offending the other who would
  like to pose as a hero.
END:VEVENT
END:VCALENDAR