BEGIN:VCALENDAR
VERSION:2.0
PRODID:-//ExpressionEngine Easy iCalendar plugin//NONSGML v1.1.1//EN
BEGIN:VEVENT
UID:event
LOCATION:\, 501 Dodge
DTSTAMP:20210221T33300Z
DTSTART;TZID=America/New_York:20170222T190000
DTEND;TZID=America/New_York:
SUMMARY:Poetry Reading: Josh Bell & Roger Reeves
DESCRIPTION:Josh Bell is the author of No Planets Strike and Alamo The
 ory. A recent recipient of a National Endowment for the Arts
  Fellowship\, he has taught at Columbia University\, the Iowa 
 Writers’ Workshop\, and elsewhere\, and is currently Briggs 
 Copeland Lecturer on English at Harvard University.\n\nRoger 
 Reeves is the author of King Me and the forthcoming collect
 ion On Paradise. He has been named a Cave Canem Fellow and i
 s the recipient of a Ruth Lilly Fellowship\, a Hodder Fellows
 hip\, and a National Endowment for the Arts Fellowship\, as we
 ll as a Whiting Award. He teaches at the University of Illi
 nois at Chicago.
END:VEVENT
END:VCALENDAR