BEGIN:VCALENDAR
VERSION:2.0
PRODID:-//ExpressionEngine Easy iCalendar plugin//NONSGML v1.1.1//EN
BEGIN:VEVENT
UID:event
LOCATION:The Heyman Center\, Second Floor Common Room
DTSTAMP:20210221T33300Z
DTSTART;TZID=America/New_York:20120501T181500
DTEND;TZID=America/New_York:
SUMMARY:A Reading from Daniel Mendelsohn’s Work in Progress - Odys
 seys: Adventures in Reading the Greeks
DESCRIPTION:The last event in the Spring 2012 Writing Lives Series\, this
  reading will feature Daniel Mendelsohn\, author of The Lost:
  A Search for Six of Six Million\, which was awarded the Nati
 onal Book Critics Circle. Mr. Mendelsohn will read from his 
 work in progress\, Odysseys: Adventures in Reading the Greeks
 .
END:VEVENT
END:VCALENDAR