BEGIN:VCALENDAR
VERSION:2.0
PRODID:-//ExpressionEngine Easy iCalendar plugin//NONSGML v1.1.1//EN
BEGIN:VEVENT
UID:event
LOCATION:The Heyman Center
DTSTAMP:20210221T33500Z
DTSTART;TZID=America/New_York:20120426T90000
DTEND;TZID=America/New_York:20120428T000000
SUMMARY:A New Vision of Black Freedom: The Manning Marable Memorial 
 Conference
DESCRIPTION:In an era of emerging social protests and revolutions the wo
 rld over\, this conference will reflect the late professor’
 s emphasis on history and social analysis as ways of illumin
 ating national and global socio-economic crises and their un
 derlying causes.
END:VEVENT
END:VCALENDAR