BEGIN:VCALENDAR
VERSION:2.0
PRODID:-//ExpressionEngine Easy iCalendar plugin//NONSGML v1.1.1//EN
BEGIN:VEVENT
UID:event
LOCATION:Schermerhorn Hall\, Room 501
DTSTAMP:20210221T32900Z
DTSTART;TZID=America/New_York:20120419T181500
DTEND;TZID=America/New_York:
SUMMARY:Do America’s Colleges Have a Future?: A Roundtable Discuss
 ion
DESCRIPTION:This discussion marks the publication of Andrew Delbanco's l
 atest book\, College: What it Was\, Is\, and Should Be. The pan
 el will include Andrew Delbanco\, Ira Katznelson\, Roosevelt M
 ontas\, Ganiatu Afolabi (CC '12)\, and Sam Roth (CC '12).
END:VEVENT
END:VCALENDAR