BEGIN:VCALENDAR
VERSION:2.0
PRODID:-//ExpressionEngine Easy iCalendar plugin//NONSGML v1.1.1//EN
BEGIN:VEVENT
UID:event
LOCATION:Schermerhorn Hall\, 754 Schermerhorn Hall
DTSTAMP:20210221T33600Z
DTSTART;TZID=America/New_York:20170417T183000
DTEND;TZID=America/New_York:
SUMMARY:A Sensorial Archaeology of Undocumented Migration in the Med
 iterranean
DESCRIPTION:How can we record\, explore\, and understand the materiality o
 f the experience of forced and undocumented migration today?
  How can we communicate such work to scholars and to various
  publics? What kind of theoretical and methodological stance
 s can we deploy\, avoiding the instrumentalisation of the p
 henomenon for purely academic purposes\, and the aestheticis
 ation of an often painful and tragic experience? Yannis H
 amilakis will explore these questions taking the Mediterran
 ean\, and especially its eastern shores as my main focus. 
END:VEVENT
END:VCALENDAR