BEGIN:VCALENDAR
VERSION:2.0
PRODID:-//ExpressionEngine Easy iCalendar plugin//NONSGML v1.1.1//EN
BEGIN:VEVENT
UID:event
LOCATION:\, Casa Hispanica
DTSTAMP:20210221T33100Z
DTSTART;TZID=America/New_York:20170411T170000
DTEND;TZID=America/New_York:
SUMMARY:The New York Premiere film screening of LIGHT
DESCRIPTION:Inspired by the life of Bessie M. Lee (1894 - 1955)\, who\, af
 ter migrating to New York City\, spent two years in indenture
 d servitude\, “Light” is a film in which dance\, memory\, m
 usic and poetry collide in a visual and aural landscape\; a m
 editation on women being propelled into the unknown by coura
 ge and faith to risk their lives and everything they have fo
 r freedom. In “Light”\, Aoki and Lee highlight the lives 
 of women including Lee\, who through the resilience and trium
 ph over unimaginable experiences were grounding forces in th
 e creation of the New York Chinatown community in the early 
 1900s.
END:VEVENT
END:VCALENDAR