BEGIN:VCALENDAR
VERSION:2.0
PRODID:-//ExpressionEngine Easy iCalendar plugin//NONSGML v1.1.1//EN
BEGIN:VEVENT
UID:event
LOCATION:The Heyman Center\, Second Floor Common Room
DTSTAMP:20210221T32700Z
DTSTART;TZID=America/New_York:20170323T180000
DTEND;TZID=America/New_York:
SUMMARY:Soviet Photomontage: From Photo-Poetry to Propaganda
DESCRIPTION:This panel discussion is organized by Maria Ratanova and wi
 ll explore the early history of photomontage in Soviet Russ
 ia and its active interaction with political development.
END:VEVENT
END:VCALENDAR