BEGIN:VCALENDAR
VERSION:2.0
PRODID:-//ExpressionEngine Easy iCalendar plugin//NONSGML v1.1.1//EN
BEGIN:VEVENT
UID:event
LOCATION:403 Kent Hall
DTSTAMP:20210221T33300Z
DTSTART;TZID=America/New_York:20170411T180000
DTEND;TZID=America/New_York:
SUMMARY:Steel\, Synth\, and Silk: The Musical Worlds of Martial Arts C
 inema
DESCRIPTION:Giorgio Biancorosso examines the soundtracks of both the ori
 ginal (1994) and the redux (2008) versions of Ashes of Time
  (dir. Wong Kar Wai) in light of both Japanese and Chinese-
 language precedents as well as the recent reconfiguration of
  film distribution occasioned by the rise of the PRC. Treati
 ng music as 'symptom' of a modus operandi\, he presents a fe
 w examples of the persistence of the legacy of jidaigeki a
 nd the Zatoichi (aka "Blind Swordsman") series\, not least vi
 a the surprising mediation of Leone's spaghetti westerns. 
END:VEVENT
END:VCALENDAR