BEGIN:VCALENDAR
VERSION:2.0
PRODID:-//ExpressionEngine Easy iCalendar plugin//NONSGML v1.1.1//EN
BEGIN:VEVENT
UID:event
LOCATION:The Heyman Center\, Second Floor Common Room
DTSTAMP:20210221T33100Z
DTSTART;TZID=America/New_York:20170421T160000
DTEND;TZID=America/New_York:20170421T180000
SUMMARY:The World After the Russian Revolution
DESCRIPTION:A public conversation with Wang Hui\, Susan Buck-Morss\, and H
 arry Harootunian to be jointly hosted by the Institute for 
 Comparative Literature and Society\, Weatherhead East Asian I
 nstitute\, Harriman Institute\, Heyman Center for the Humaniti
 es\, and the Department of History at Columbia University.
END:VEVENT
END:VCALENDAR