BEGIN:VCALENDAR
VERSION:2.0
PRODID:-//ExpressionEngine Easy iCalendar plugin//NONSGML v1.1.1//EN
BEGIN:VEVENT
UID:event
LOCATION:Pulitzer Hall (formerly Journalism Hall)\, Pulitzer Hall\, Wor
 ld Room
DTSTAMP:20210221T33200Z
DTSTART;TZID=America/New_York:20170501T181500
DTEND;TZID=America/New_York:
SUMMARY:Jumping Sides: When Critics Make Art and Artists Do Criticis
 m
DESCRIPTION:The disciplines of creating art and criticizing art\, while i
 nterdependent\, are often thought of as mutually exclusive\, a
 nd even antagonistic. Artists often dismiss critical inquiry
  as irrelevant or exploitative\, and critics often claim that
  the ability to produce creative work is no prerequisite for
  what they do. What happens\, then\, when critics dare to work
  in the creative field they criticize?
END:VEVENT
END:VCALENDAR