BEGIN:VCALENDAR
VERSION:2.0
PRODID:-//ExpressionEngine Easy iCalendar plugin//NONSGML v1.1.1//EN
BEGIN:VEVENT
UID:event
LOCATION:\, Barnard College\, 202 Lehman Auditorium\, Althschul Hall
DTSTAMP:20210221T33400Z
DTSTART;TZID=America/New_York:20170411T181500
DTEND;TZID=America/New_York:
SUMMARY:The Green Hollow
DESCRIPTION:Owen Sheers's The Green Hollow marks the 50th anniversa
 ry of the Aberfan disaster. The film\, produced by the BBC 
 and Vox Pictures\, describes the aftermath of a coal tip coll
 apse in a Welsh village that killed over a hundred people\, 
 most of them children. This lyrical documentary is performed
  by a stellar cast of Wales's best-known acting talent\, incl
 uding Michael Sheen\, Jonathan Pryce\, Sian Phillips\, Eve Myl
 es and Iwan Rheon\, with some contributions from the local 
 community. 
END:VEVENT
END:VCALENDAR