BEGIN:VCALENDAR
VERSION:2.0
PRODID:-//ExpressionEngine Easy iCalendar plugin//NONSGML v1.1.1//EN
BEGIN:VEVENT
UID:event
LOCATION:Jerome Greene Hall (Law School)\, Room 107\, and Jerome Greene
  Annex
DTSTAMP:20210221T33100Z
DTSTART;TZID=America/New_York:20170406T90000
DTEND;TZID=America/New_York:20170407T000000
SUMMARY:Fourth Zuckerman Conference at the Mellon Biennial
DESCRIPTION:Interdisciplinary Center for Innovative Theory and Empirics
  (INCITE) is pleased to announce our Fourth Harriet Zuck
 erman Conference at the 2017 Mellon Biennial. This confere
 nce will take place on April 6 and 7 at the Columbia Law Sc
 hool (435 West 117th Street). Reflecting the intellectual
  diversity and interdisciplinarity of our Mellon Program\, 
 the conference is not about one theme but about several that
  engage disciplines across the humanities and social science
 s\, as demonstrated in our panels.
END:VEVENT
END:VCALENDAR