BEGIN:VCALENDAR
VERSION:2.0
PRODID:-//ExpressionEngine Easy iCalendar plugin//NONSGML v1.1.1//EN
BEGIN:VEVENT
UID:event
LOCATION:\, Jerome Greene Annex
DTSTAMP:20210221T33200Z
DTSTART;TZID=America/New_York:20170420T160000
DTEND;TZID=America/New_York:20170420T180000
SUMMARY:Despair is Not a Political Strategy
DESCRIPTION:Leading Advocates Discuss Current Policy Campaigns to Protec
 t New York's Most Vulnerable\n\nAll eyes have been on the chao
 s in Washington\, and on the ways that the changing federal p
 olicy scene has affected or might affect immigrants\, refugee
 s\, LGBT people\, racial and ethnic minorities\, and other vuln
 erable groups in the United States. In this panel\, leading c
 ommunity organizers will describe current policy advocacy wo
 rk in New York\, focusing on specific legislative targets tha
 t could buffer the impact of the new administration’s agen
 da. At the conclusion of the formal panel\, there will be tim
 e for discussion as well as opportunities for those in atten
 dance to sign up to get involved with the work that these or
 ganizers are doing.
END:VEVENT
END:VCALENDAR