BEGIN:VCALENDAR
VERSION:2.0
PRODID:-//ExpressionEngine Easy iCalendar plugin//NONSGML v1.1.1//EN
BEGIN:VEVENT
UID:event
LOCATION:\, Faculty House Presidential Room & Lerner 569
DTSTAMP:20210221T33400Z
DTSTART;TZID=America/New_York:20170413T94500
DTEND;TZID=America/New_York:20170414T000000
SUMMARY:Intimacies: Days I & II
DESCRIPTION:The Institute for Religion\, Culture\, and Public Life at Colu
 mbia is sponsoring the 2-day conference "Intimacies I & II: 
 Sexualities in Contemporary Muslim Societies" and "Queerness
  in Muslim Contexts/Communities" on Thursday and Friday\, 
 April 13 and 14. This conference  examines issues related 
 to love\, sexual identity\, LGBTQ social movements\, and sexual
  and reproductive health in diverse Muslim contexts here and
  abroad by bringing together academics\, journalists\, activi
 sts\, human rights advocates\, faith-based leaders\, artists\, a
 nd others who have contributed to expanding and diversifying
  knowledge about sexualities in Islam. “Intimacies I” hi
 ghlights conceptual and empirical understandings of Muslim a
 nd/or Islamic sexualities\, and “Intimacies II” explores 
 queer issues in Islam and Muslim communities. 
END:VEVENT
END:VCALENDAR