BEGIN:VCALENDAR
VERSION:2.0
PRODID:-//ExpressionEngine Easy iCalendar plugin//NONSGML v1.1.1//EN
BEGIN:VEVENT
UID:event
LOCATION:The Heyman Center\, Second Floor Common Room
DTSTAMP:20210221T32700Z
DTSTART;TZID=America/New_York:20120425T93000
DTEND;TZID=America/New_York:20120425T163000
SUMMARY:Civilization\, the Curriculum\, and the University\, 1914-1950â
 €”a day-long workshop
DESCRIPTION:Speakers from the United States and the United Kingdom will 
 convene to discuss "Civilization\, the Curriculum\, and the Un
 iversity\, 1914-1950."
END:VEVENT
END:VCALENDAR