BEGIN:VCALENDAR
VERSION:2.0
PRODID:-//ExpressionEngine Easy iCalendar plugin//NONSGML v1.1.1//EN
BEGIN:VEVENT
UID:event
LOCATION:Jerome Greene Hall (Law School)\, Jerome Greene Annex
DTSTAMP:20210221T33300Z
DTSTART;TZID=America/New_York:20170918T181500
DTEND;TZID=America/New_York:20170918T200000
SUMMARY:Insurgent Knowledges: Book Discussion
DESCRIPTION:Join us for a more nuanced analysis of the relationship betw
 een prisons and public education with authors Dr. Damien Soj
 oyner and Dr. Sabina Vaught and respondents Robin McGinty an
 d Dr. Carla Shedd. 
END:VEVENT
END:VCALENDAR