BEGIN:VCALENDAR
VERSION:2.0
PRODID:-//ExpressionEngine Easy iCalendar plugin//NONSGML v1.1.1//EN
BEGIN:VEVENT
UID:event
LOCATION:The Heyman Center\, Second Floor Common Room
DTSTAMP:20210221T32900Z
DTSTART;TZID=America/New_York:20170928T100000
DTEND;TZID=America/New_York:20170929T170000
SUMMARY:The Jamaican 1970s: A Symposium
DESCRIPTION:The Graduate Center\, CUNY\n\n28 September 2017\n\nColumbia Unive
 rsity\n\n29 September 2017
END:VEVENT
END:VCALENDAR