BEGIN:VCALENDAR
VERSION:2.0
PRODID:-//ExpressionEngine Easy iCalendar plugin//NONSGML v1.1.1//EN
BEGIN:VEVENT
UID:event
LOCATION:The Heyman Center\, Second Floor Common Room
DTSTAMP:20210221T33000Z
DTSTART;TZID=America/New_York:20171002T180000
DTEND;TZID=America/New_York:20171002T193000
SUMMARY:Explorations in the Medical Humanities: Silencing the Body: 
 Hypnosis\, Music\, and Pain in the 19th C.
DESCRIPTION:This lecture series will explore the enigma of how what we w
 rite relates back to the experience of bodies\, healthy and u
 nwell. Our speakers will explore how the medical humanities 
 build on and revise earlier notions of the “medical arts.
  At stake are the problem of representation and the interp
 retation of cultural products\, past and present\, through med
 ical models.
END:VEVENT
END:VCALENDAR