BEGIN:VCALENDAR
VERSION:2.0
PRODID:-//ExpressionEngine Easy iCalendar plugin//NONSGML v1.1.1//EN
BEGIN:VEVENT
UID:event
LOCATION:Jerome Greene Hall (Law School)\, Jerome Greene Annex
DTSTAMP:20210221T33600Z
DTSTART;TZID=America/New_York:20171012T140000
DTEND;TZID=America/New_York:20171012T183000
SUMMARY:Resistance Literature Thirty Years Later… Now
DESCRIPTION:A symposium at the Heyman Center at Columbia University\, to 
 mark three decades since the publication of Barbara Harlow's
  Resistance Literature --and to mark the passing of Barbara
  as a teacher\, mentor\, interlocutor\, and comrade.
END:VEVENT
END:VCALENDAR