BEGIN:VCALENDAR
VERSION:2.0
PRODID:-//ExpressionEngine Easy iCalendar plugin//NONSGML v1.1.1//EN
BEGIN:VEVENT
UID:event
LOCATION:The Heyman Center\, Wood Auditorium (Avery Hall) & Second Flo
 or Common Room
DTSTAMP:20210221T33300Z
DTSTART;TZID=America/New_York:20171013T130000
DTEND;TZID=America/New_York:20171014T183000
SUMMARY:Pious Technologies and Secular Designs
DESCRIPTION:For over a decade\, scholars in sociology\, anthropology\, and 
 religious studies have been engaged in a heated debate about
  the role of religion in modern politics and society\, a disc
 ussion formerly absent from most canonical accounts of moder
 nization and globalization. For too long\, a simplistic view 
 of the Enlightenment reigned: one in which religious regimes
  were quickly and completely displaced by new rational struc
 tures. The work of Charles Taylor\, José Casanova and Tal
 al Asad\, among others\, has been crucial in undermining such
  notions\, revealing the religious as anything but absent fro
 m the public sphere\, the secular as a notion all too intertw
 ined with Christianity\, and Western narratives about reason 
 and progress as tenaciously—and at times violently—encha
 nted.
END:VEVENT
END:VCALENDAR