BEGIN:VCALENDAR
VERSION:2.0
PRODID:-//ExpressionEngine Easy iCalendar plugin//NONSGML v1.1.1//EN
BEGIN:VEVENT
UID:event
LOCATION:\, Casa Hispanica 201
DTSTAMP:20210221T33700Z
DTSTART;TZID=America/New_York:20171024T170000
DTEND;TZID=America/New_York:20171024T190000
SUMMARY:America as Theater of Spanish Modernity: An Interdisciplinar
 y Colloquium
DESCRIPTION:America as Theater of Spanish Modernity: An Interdisciplinar
 y Colloquium featuring Carlos Ramos\, Juan José LaHuerta\, M
 aría González Pendas\, Ana Fernández Cebrián\, and José 
 M. del Pino.
END:VEVENT
END:VCALENDAR