BEGIN:VCALENDAR
VERSION:2.0
PRODID:-//ExpressionEngine Easy iCalendar plugin//NONSGML v1.1.1//EN
BEGIN:VEVENT
UID:event
LOCATION:\, Maison Française\, East Gallery\, Buell Hall
DTSTAMP:20210221T33800Z
DTSTART;TZID=America/New_York:20171117T90000
DTEND;TZID=America/New_York:20171117T170000
SUMMARY:Sites of Religious Memory in an Age of Exodus - Eastern Medi
 terranean
DESCRIPTION:Sites of Religious Memory in an Age of Exodus:  Eas
 tern Mediterranean
END:VEVENT
END:VCALENDAR