BEGIN:VCALENDAR
VERSION:2.0
PRODID:-//ExpressionEngine Easy iCalendar plugin//NONSGML v1.1.1//EN
BEGIN:VEVENT
UID:event
LOCATION:The Heyman Center\, Second Floor Common Room
DTSTAMP:20210221T33900Z
DTSTART;TZID=America/New_York:20171129T170000
DTEND;TZID=America/New_York:20171129T190000
SUMMARY:Roundtable on Maya Jasanoff’s “The Dawn Watch: Joseph Co
 nrad in a Global World”
DESCRIPTION:Roundtable on Maya Jasanoff's "The Dawn Watch: Joseph Conrad
  in a Global World"
END:VEVENT
END:VCALENDAR