BEGIN:VCALENDAR
VERSION:2.0
PRODID:-//ExpressionEngine Easy iCalendar plugin//NONSGML v1.1.1//EN
BEGIN:VEVENT
UID:event
LOCATION:The Heyman Center\, Second Floor Common Room
DTSTAMP:20210221T33200Z
DTSTART;TZID=America/New_York:20120420T93000
DTEND;TZID=America/New_York:20120420T170000
SUMMARY:The Culture of Credit: A Conversation between Historians and
  Anthropologists—a day-long conference
DESCRIPTION:This conference on "The Culture of Credit" features two pane
 l discussions\, as well as a keynote lecture by Jeff Madrick.
END:VEVENT
END:VCALENDAR