BEGIN:VCALENDAR
VERSION:2.0
PRODID:-//ExpressionEngine Easy iCalendar plugin//NONSGML v1.1.1//EN
BEGIN:VEVENT
UID:event
LOCATION:The Heyman Center\, Second Floor Common Room
DTSTAMP:20210221T33100Z
DTSTART;TZID=America/New_York:20170914T181500
DTEND;TZID=America/New_York:20170914T193000
SUMMARY:Celebrating Recent Work by Naor Ben-Yehoyada
DESCRIPTION:In The Mediterranean Incarnate\, anthropologist Naor Ben-Yeh
 oyada takes us aboard the Naumachos for a thirty-seven-day
  voyage in the fishing grounds between Sicily and Tunisia. H
 e also takes us on a historical exploration of the past eigh
 ty years to show how the Mediterranean has reemerged as a mo
 dern transnational region. From Sicilian poaching in North A
 frican territory to the construction of the TransMediterrane
 an gas pipeline\, Ben-Yehoyada examines the transformation of
  political action\, imaginaries\, and relations in the central
  Mediterranean while detailing the remarkable bonds that hav
 e formed between the Sicilians and Tunisians who live on its
  waters.
END:VEVENT
END:VCALENDAR