BEGIN:VCALENDAR
VERSION:2.0
PRODID:-//ExpressionEngine Easy iCalendar plugin//NONSGML v1.1.1//EN
BEGIN:VEVENT
UID:event
LOCATION:Barnard Hall\, James Room
DTSTAMP:20210221T32700Z
DTSTART;TZID=America/New_York:20171005T160000
DTEND;TZID=America/New_York:20171005T180000
SUMMARY:Feminist to the Core: Puccini’s La Bohème
DESCRIPTION:Feminist to the Core: Puccini’s La Bohème features Nao
 mi André (Associate Professor of Women’s Studies and Afr
 oamerican and African Studies\, University of Michigan)\, Mar
 y Birnbaum (Juilliard School)\, Professor Suzanne Cusick 
 (Professor of Music\, NYU)\, and Annie Randall (Professor of
  Music\, Bucknell University) in conversation about this year
 ’s Music Humanities opera\, Puccini’s La Bohème. "Femi
 nist to the Core" is a lecture series that seeks to transfo
 rm the conversation in and around the Columbia core curricul
 um.   
END:VEVENT
END:VCALENDAR