BEGIN:VCALENDAR
VERSION:2.0
PRODID:-//ExpressionEngine Easy iCalendar plugin//NONSGML v1.1.1//EN
BEGIN:VEVENT
UID:event
LOCATION:Maison Francaise\, Buell Hall
DTSTAMP:20210221T33300Z
DTSTART;TZID=America/New_York:20171013T183000
DTEND;TZID=America/New_York:
SUMMARY:CINEMA OF RESISTANCE: The Battle of Algiers by Gillo Ponteco
 rvo (1966)
DESCRIPTION:Seven films about forms of resistance.
END:VEVENT
END:VCALENDAR