BEGIN:VCALENDAR
VERSION:2.0
PRODID:-//ExpressionEngine Easy iCalendar plugin//NONSGML v1.1.1//EN
BEGIN:VEVENT
UID:event
LOCATION:The Heyman Center\, Second Floor Common Room
DTSTAMP:20210221T32900Z
DTSTART;TZID=America/New_York:20120418T181500
DTEND;TZID=America/New_York:
SUMMARY:Enchantment Across the Disciplines—a symposium
DESCRIPTION:This symposium on enchantment features Michael Saler\, Wendy 
 Faris\, Sumathi Ramaswamy\, and Akeel Bilgrami\, and is organiz
 ed by Gauri Viswanathan.
END:VEVENT
END:VCALENDAR