BEGIN:VCALENDAR
VERSION:2.0
PRODID:-//ExpressionEngine Easy iCalendar plugin//NONSGML v1.1.1//EN
BEGIN:VEVENT
UID:event
LOCATION:Maison Francaise\, Buell Hall
DTSTAMP:20210221T32800Z
DTSTART;TZID=America/New_York:20171017T183000
DTEND;TZID=America/New_York:
SUMMARY:CINEMA OF RESISTANCE: La Commune (Paris\, 1871) by Peter Watk
 ins (2000)
DESCRIPTION:Seven films about forms of resistance.
END:VEVENT
END:VCALENDAR